BEGIN:VCALENDAR
VERSION:2.0
PRODID:-//ASIS Massage Education Blog - ECPv4.4.1.1//NONSGML v1.0//EN
CALSCALE:GREGORIAN
METHOD:PUBLISH
X-WR-CALNAME:ASIS Massage Education Blog
X-ORIGINAL-URL:https://www.asismassage.edu/blog
X-WR-CALDESC:Events for ASIS Massage Education Blog
BEGIN:VEVENT
DTSTART;VALUE=DATE:20180427
DTEND;VALUE=DATE:20180427
DTSTAMP:20260420T134907
CREATED:20171130T160210Z
LAST-MODIFIED:20180427T145011Z
UID:3217-1524787200-1524873599@www.asismassage.edu
SUMMARY:YIN Tui Na Massage
DESCRIPTION:During the day T.J. will teach and support a basic understanding of Yin theory & Tui Na Massage techniques. Yin Yang theory is the foundation of Tui Na. The techniques being taught will promote balance in the Yin aspects of the body.                                                                          
URL:https://www.asismassage.edu/blog/event/yin-tui-na-massage-4/
CATEGORIES:Workshop
END:VEVENT
END:VCALENDAR