BEGIN:VCALENDAR
VERSION:2.0
PRODID:-//ASIS Massage Education Blog - ECPv4.4.1.1//NONSGML v1.0//EN
CALSCALE:GREGORIAN
METHOD:PUBLISH
X-WR-CALNAME:ASIS Massage Education Blog
X-ORIGINAL-URL:https://www.asismassage.edu/blog
X-WR-CALDESC:Events for ASIS Massage Education Blog
BEGIN:VEVENT
DTSTART;TZID=America/Phoenix:20200425T100000
DTEND;TZID=America/Phoenix:20200426T120000
DTSTAMP:20260421T055934
CREATED:20200422T194224Z
LAST-MODIFIED:20200422T195214Z
UID:5583-1587808800-1587902400@www.asismassage.edu
SUMMARY:ONLINE CEU CLASS: Onsite Chair Massage - Weekend 1
DESCRIPTION:\n\nOnsite chair massage has been one of the fastest growing and most visible parts of the massage field over the last 20 years. Many employers and institutions have begun to recognize the benefits of massage\, and have used this accessible form of massage as a benefit for their employees. Onsite chair massage has also increased public recognition of massage and bodywork\, and can be seen in many public places such as grocery stores\, malls\, farmers markets\, airports\, street fairs - just about anywhere where there is a large public gathering. For many people\, this form of massage may be an introduction to the great pleasure of receiving hands-on work from a skilled professional\, and to all of the benefits that massage therapy can bring to their lives. In addition to learning hands-on chair massage skills\, there will be discussion of possible chair massage venues\, setting your rates\, logistics and supplies for onsite work\, intake\, and general communication about the benefits of massage therapy.\n\nInstructor: Carl Johns\nDate/Time:  Two Weekends - April 25th & 26th\, 2020\, 10am-12pm\, May 2nd and 3rd\, 2020\, 10am-12pm\nLocation: Online\nTuition: $200\nPrerequisite:\nRegistration Contact: call/text (928) 451 4853 workshops@asismassage.edu\nContinuing Education Credits: 8\n
URL:https://www.asismassage.edu/blog/event/online-ceu-class-onsite-chair-massage/
ORGANIZER;CN="ASIS%20Massage%20School%3A%20Continuing%20Education":MAILTO:karen@asismassage.com
END:VEVENT
END:VCALENDAR