BEGIN:VCALENDAR
VERSION:2.0
PRODID:-//ASIS Massage Education Blog - ECPv4.4.1.1//NONSGML v1.0//EN
CALSCALE:GREGORIAN
METHOD:PUBLISH
X-WR-CALNAME:ASIS Massage Education Blog
X-ORIGINAL-URL:https://www.asismassage.edu/blog
X-WR-CALDESC:Events for ASIS Massage Education Blog
BEGIN:VEVENT
DTSTART;TZID=America/Phoenix:20210614T090000
DTEND;TZID=America/Phoenix:20210614T153000
DTSTAMP:20260423T055652
CREATED:20210304T012009Z
LAST-MODIFIED:20210304T012009Z
UID:6360-1623661200-1623684600@www.asismassage.edu
SUMMARY:June Full Time New Start Orientation
DESCRIPTION:New start on all 4 campuses! Start your career as a massage therapist in a supportive and dynamic environment. Start June 14\, 2021 and graduate January 21\, 2022. Contact your closest campus to enroll.\n\nFlagstaff: 928-226-1400\n\nMesa: 602-833-6500\n\nPrescott: 928-717-2747\n\nTucson: 520-343-0338
URL:https://www.asismassage.edu/blog/event/june-full-time-new-start-orientation/
CATEGORIES:Flagstaff,Mesa,Prescott,Tucson
END:VEVENT
END:VCALENDAR