BEGIN:VCALENDAR
VERSION:2.0
PRODID:-//ASIS Massage Education Blog - ECPv4.4.1.1//NONSGML v1.0//EN
CALSCALE:GREGORIAN
METHOD:PUBLISH
X-WR-CALNAME:ASIS Massage Education Blog
X-ORIGINAL-URL:https://www.asismassage.edu/blog
X-WR-CALDESC:Events for ASIS Massage Education Blog
BEGIN:VEVENT
DTSTART;TZID=America/Phoenix:20191031T110000
DTEND;TZID=America/Phoenix:20191031T140000
DTSTAMP:20260421T002818
CREATED:20191025T192121Z
LAST-MODIFIED:20191025T192121Z
UID:5013-1572519600-1572530400@www.asismassage.edu
SUMMARY:ASIS Mesa is getting ready for Halloween!
DESCRIPTION:\nNo Tricks\, Just Treats! Mesa is participating in the Downtown Mesa Trick or Treat event on October 21\, 2019 from 11am - 2pm. Stop on in and grab some candy! 
URL:https://www.asismassage.edu/blog/event/asis-mesa-is-getting-ready-for-halloween/
CATEGORIES:Downtown Mesa,Mesa,Trick or Treat
END:VEVENT
END:VCALENDAR