BEGIN:VCALENDAR
VERSION:2.0
PRODID:-//ASIS Massage Education Blog - ECPv4.4.1.1//NONSGML v1.0//EN
CALSCALE:GREGORIAN
METHOD:PUBLISH
X-WR-CALNAME:ASIS Massage Education Blog
X-ORIGINAL-URL:https://www.asismassage.edu/blog
X-WR-CALDESC:Events for ASIS Massage Education Blog
BEGIN:VEVENT
DTSTART;TZID=America/Phoenix:20191020T090000
DTEND;TZID=America/Phoenix:20191020T120000
DTSTAMP:20260421T053212
CREATED:20191015T140509Z
LAST-MODIFIED:20191018T203727Z
UID:4954-1571562000-1571572800@www.asismassage.edu
SUMMARY:CANCELLED Community Class: Make Pumpkin Spice Lotion
DESCRIPTION:THIS EVENT HAS BEEN CANCELLED. \n\nCelebrate autumn and join us in making a 4oz jar of pumpkin spice lotion. In class\, you will learn the steps to make a quick\, simple\, and all natural lotion. You will leave class with your very own jar of pumpkin spice lotion to enjoy.  All materials will be provided in class.\nDate/Time:October 20th - October 20th 2019 \, 9am-12 noon\nLocation:ASIS Mesa Campus\nTuition:$25\nPrerequisite:None\nRegistration Contact:\nContinuing Education Credits:None\n\n
URL:https://www.asismassage.edu/blog/event/4954/
CATEGORIES:Community Class,Mesa,Workshop
END:VEVENT
END:VCALENDAR